BEGIN:VCALENDAR
VERSION:2.0
PRODID:-//Jessie Murphy  - ECPv6.15.11//NONSGML v1.0//EN
CALSCALE:GREGORIAN
METHOD:PUBLISH
X-WR-CALNAME:Jessie Murphy 
X-ORIGINAL-URL:https://jessiemurphy.co.nz
X-WR-CALDESC:Events for Jessie Murphy 
REFRESH-INTERVAL;VALUE=DURATION:PT1H
X-Robots-Tag:noindex
X-PUBLISHED-TTL:PT1H
BEGIN:VTIMEZONE
TZID:Pacific/Auckland
BEGIN:STANDARD
TZOFFSETFROM:+1300
TZOFFSETTO:+1200
TZNAME:NZST
DTSTART:20250405T140000
END:STANDARD
BEGIN:DAYLIGHT
TZOFFSETFROM:+1200
TZOFFSETTO:+1300
TZNAME:NZDT
DTSTART:20250927T140000
END:DAYLIGHT
BEGIN:STANDARD
TZOFFSETFROM:+1300
TZOFFSETTO:+1200
TZNAME:NZST
DTSTART:20260404T140000
END:STANDARD
BEGIN:DAYLIGHT
TZOFFSETFROM:+1200
TZOFFSETTO:+1300
TZNAME:NZDT
DTSTART:20260926T140000
END:DAYLIGHT
BEGIN:STANDARD
TZOFFSETFROM:+1300
TZOFFSETTO:+1200
TZNAME:NZST
DTSTART:20270403T140000
END:STANDARD
BEGIN:DAYLIGHT
TZOFFSETFROM:+1200
TZOFFSETTO:+1300
TZNAME:NZDT
DTSTART:20270925T140000
END:DAYLIGHT
END:VTIMEZONE
BEGIN:VEVENT
DTSTART;TZID=Pacific/Auckland:20260527T103000
DTEND;TZID=Pacific/Auckland:20260527T120000
DTSTAMP:20260425T051634
CREATED:20260323T224703Z
LAST-MODIFIED:20260324T011532Z
UID:766-1779877800-1779883200@jessiemurphy.co.nz
SUMMARY:Ocean Beach Eatery - Foxton Beach with Jessie Murphy Music!
DESCRIPTION:Spend your Wednesday morning from 10:30 AM enjoying a delightful mix of jazz\, pop\, contemporary\, and a touch of classical – something for every music lover! \nI’m a pianist and singer\, bringing an eclectic set to brighten your midweek. Relax\, sip on delicious coffee or drinks\, and enjoy tasty food from the full menu while the music carries you away.
URL:https://jessiemurphy.co.nz/event/ocean-beach-eatery-foxton-beach-with-jessie-murphy-music-2/
LOCATION:Ocean Beach Eatery\, 52 Signal Street\, Foxton Beach\, 4815\, New Zealand
ATTACH;FMTTYPE=image/png:https://jessiemurphy.co.nz/wp-content/uploads/2026/03/Screenshot-2026-03-24-at-2.12.04-PM.png
END:VEVENT
BEGIN:VEVENT
DTSTART;TZID=Pacific/Auckland:20260530T113000
DTEND;TZID=Pacific/Auckland:20260530T133000
DTSTAMP:20260425T051634
CREATED:20260323T225846Z
LAST-MODIFIED:20260323T230312Z
UID:772-1780140600-1780147800@jessiemurphy.co.nz
SUMMARY:The Globe Foyer - Palmerston North - Jess and Steve
DESCRIPTION:Join Steve & Jess for an unforgettable mix of funk\, smooth grooves\, swing\, Latin vibes\, and eclectic musical magic! Catch us in the foyer at The Globe right after the Gala concert at 11:30 am. Steve brings the rhythm on percussion and guitar\, while Jess wows with vocals\, piano\, and melodica. Get ready for some truly amazing musical moments!
URL:https://jessiemurphy.co.nz/event/the-globe-foyer-palmerston-north-jess-and-steve/
LOCATION:The Globe Palmerston North\, 312 Main Street\, Palmerston North\, 4410\, New Zealand
ATTACH;FMTTYPE=image/jpeg:https://jessiemurphy.co.nz/wp-content/uploads/2026/03/The-Globe.jpg
END:VEVENT
BEGIN:VEVENT
DTSTART;TZID=Pacific/Auckland:20260610T103000
DTEND;TZID=Pacific/Auckland:20260610T120000
DTSTAMP:20260425T051634
CREATED:20260323T224845Z
LAST-MODIFIED:20260323T225335Z
UID:768-1781087400-1781092800@jessiemurphy.co.nz
SUMMARY:Ocean Beach Eatery - Foxton Beach with Jessie Murphy Music!
DESCRIPTION:Spend your Wednesday morning from 10:30 AM enjoying a delightful mix of jazz\, pop\, contemporary\, and a touch of classical – something for every music lover! \nI’m a pianist and singer\, bringing an eclectic set to brighten your midweek. Relax\, sip on delicious coffee or drinks\, and enjoy tasty food from the full menu while the music carries you away.
URL:https://jessiemurphy.co.nz/event/ocean-beach-eatery-foxton-beach-with-jessie-murphy-music-3/
ATTACH;FMTTYPE=image/png:https://jessiemurphy.co.nz/wp-content/uploads/2026/03/Screenshot-2026-03-18-at-3.32.42-PM.png
END:VEVENT
BEGIN:VEVENT
DTSTART;TZID=Pacific/Auckland:20260628T150000
DTEND;TZID=Pacific/Auckland:20260628T170000
DTSTAMP:20260425T051634
CREATED:20260323T231208Z
LAST-MODIFIED:20260324T011959Z
UID:778-1782658800-1782666000@jessiemurphy.co.nz
SUMMARY:Ocean Beach Eatery Foxton Beach Sunday Session!
DESCRIPTION:3–5 PM: Live music with Jess\, possibly joined by a special guest instrumentalist! Enjoy an afternoon of unforgettable tunes alongside delicious food and drinks – an experience not to be missed. \n  \n 
URL:https://jessiemurphy.co.nz/event/ocean-beach-eatery-foxton-beach-sunday-session/
LOCATION:Ocean Beach Eatery\, 52 Signal Street\, Foxton Beach\, 4815\, New Zealand
ATTACH;FMTTYPE=image/jpeg:https://jessiemurphy.co.nz/wp-content/uploads/2025/06/Jessie-Murphy-.jpg
END:VEVENT
END:VCALENDAR